BEGIN:VCALENDAR
VERSION:2.0
METHOD:PUBLISH
PRODID:Data::ICal 0.22
BEGIN:VEVENT
DESCRIPTION:Seit 2010 findet der Hanauer PoetrySlam regelm&auml\;&szlig\;ig
  auf den spannendsten B&uuml\;hnen statt.<br />\nDas KUZ Hanau bietet auf
 meistens kleinen aber immer feinen B&uuml\;hnen einen besonderen Slam in H
 essens kleinster Gro&szlig\;stadt.<br />\n<br />\nAuf unseren kuschligen V
 eranstaltungen bieten wir jeden Monat unserem Publikum 4 bis 6 handverlese
 nen PoetInnen.<br />\nOb deren Texte Menschen zum Lachen\, Weinen oder Nac
 hdenken bringt\, auswendig vorgetragen oder abgelesen wird\, gereimt ist o
 der einfach eine Geschichte erz&auml\;hlt\, ist alles eine Spielart dieser
  wundervollen Veranstaltungen. Wir haben immer eine wundersch&ouml\;ne Mis
 chung aus allem was Poetryslam so besonders macht - mal mit dem &quot\;kla
 ssischen Wettbewerb&quot\;\, mal als Show ohne Abstimmungen.<br />\nEinige
  heutige Gr&ouml\;&szlig\;en der Szene haben wir schon bei ihren ersten Sc
 hritten begleitet und freuen uns auch in Zukunft jedem\, der es mal probie
 ren m&ouml\;chte\, eine Chance zu geben.\n<br />\nDer Br&uuml\;ckenkopf is
 t &uuml\;ber ca. 5 Stufen erreichbar\, die Toiletten sind nicht barrierefr
 ei.<br />\n<br />\nVVK: 10\,00 &euro\;\, erm&auml\;&szlig\;igt 7\,00 &euro
 \;<br />\nAbendkasse:12\,00 &euro\;\, erm&auml\;&szlig\;igt 9\,00 &euro\;<
 br />\nErm&auml\;&szlig\;igung f&uuml\;r: Sch&uuml\;lerInnen\, Auszubilden
 de\, StudentInnen\, Hanau Pass
DTEND:20260425T220000Z
DTSTAMP:19971210T080000Z
DTSTART:20260426T140000Z
LOCATION:Wilhelmstraße 15a\, 63450 Hanau\, Innenstadt
ORGANIZER:Brückenkopf
SEQUENCE:0
STATUS:CONFIRMED
SUMMARY:Hanauer Poetry Slam
TRANSP:OPAQUE
UID:/2/208/209/576/1814992026/04/26
URL:https://www.hanau.de/hanau.de/freizeit/veranstaltungskalender/veranstal
 tungen/181499_termin.ics
END:VEVENT
END:VCALENDAR
